BEGIN:VCALENDAR
VERSION:2.0
X-WR-CALNAME:www.indybay.org
PRODID:-//indybay/ical// v1.0//EN
BEGIN:VEVENT
UID:Indybay-18283153
SEQUENCE:18284485
CREATED:20060627T183400Z
DESCRIPTION:The Socially Responsible Network’s 2006 Think Tank Series\n\nRacism and 
 Cross-Cultural Organizing\n\n \n\nHow can we overcome our barriers to 
 organizing together?\n\n\nFeaturing Alameda County Supervisor Keith Carson, 
 a brief presentation on research done by the Public Policy Institute of 
 California, and four break-out discussion groups focusing on the issues 
 affecting our communities, and developing an action agenda for breaking 
 down obstacles to cross-cultural organizing:\n\n \n\n·       Criminal 
 Justice\n\n·       Economic / Health / Immigration Justice\n\n·       
 Environment / Environmental Justice\n\n·       Youth / Educational 
 Justice\n\n https://www.indybay.org/newsitems/2006/06/27/18283153.php
SUMMARY:Racism and Cross-Cultural Organizing
LOCATION:1433 Webster Street, Oakland
URL:https://www.indybay.org/newsitems/2006/06/27/18283153.php
DTSTART:20060630T013000Z
DTEND:20060630T040000Z
END:VEVENT
END:VCALENDAR
