BEGIN:VCALENDAR
VERSION:2.0
X-WR-CALNAME:www.indybay.org
PRODID:-//indybay/ical// v1.0//EN
BEGIN:VEVENT
UID:Indybay-18283145
SEQUENCE:18284477
CREATED:20060627T165500Z
DESCRIPTION:Saturday July 8th House of Stormz Studios and Frontline Riddims present 
 BRING IT! A Grand Opening and Promo Release Event\n\nFeaturing The High 
 Priestess of Hip Hop MEDUSA (Feline Science/LA)\n\nPerforming with one of 
 the bays hottest bands THE PARK featuring members of BUCHO!\n\nJoin us as 
 we breathe life and spark momentum into one of the most progressive 
 production studios and hippest event spaces in Oakland!\n\nMASTER OF 
 CEREMONIES:\nJ.B.RAP (Deep Dick Collective/Naked Souls Artist 
 Alliance)\n\nPERFORMANCES BY RECORDING ARTISTS:\nAza (Herstory/The 
 Playground/Frontline)\nSyra (DJ Alpheta/Frontline/LIP)\nSeneca (GIVING 
 TREE)\nGalen (Cov Records)\nTZ Money (Frontline)\nMC Taurus 
 (Frontline)\n\nDJ’s:\nJamin (B.I.G./LIP)\nDiscovery 
 (Livingroom/Rise)\n\nEROTIC PHOTO’S and URBAN ARTWORK BY:\nREFA 1 
 (Oaklandish)\nand\nJ.R.S. (Everywhere)\n\nFrom the producers of LIP: An All 
 Grrrl MC Battle and FLEX Drum’n’Bass, we bring you the bays freshest 
 new talent in a slammin’ new space.\nWITNESS! AS WE UNLEASH A FORCE TO BE 
 RECKONED WITH...\n1439 105th Ave. @ E. 14th St.::Oakland\nDoors @ 10pm:: 
 Suggested Donation: $8 Before 11pm/$12 After::21+ W/ID\nINFO: 
 alpheta@grrrlbattle.com :: myspace.com/alpheta\n 
 https://www.indybay.org/newsitems/2006/06/27/18283145.php
SUMMARY:Bring It! House of Stormz Studio's Featuring MEDUSA
LOCATION:1439 105th Ave @ E. 14th Street\nOakland, CA 
URL:https://www.indybay.org/newsitems/2006/06/27/18283145.php
DTSTART:20060709T050000Z
DTEND:20060709T100000Z
END:VEVENT
END:VCALENDAR
