BEGIN:VCALENDAR
VERSION:2.0
X-WR-CALNAME:www.indybay.org
PRODID:-//indybay/ical// v1.0//EN
BEGIN:VEVENT
UID:Indybay-18282949
SEQUENCE:18284233
CREATED:20060626T190100Z
DESCRIPTION:The Yuval Ron Ensemble unites the sacred and folkloric musical traditions 
 of Jewish and Arabic cultures into an unusual musical celebration. Composer 
 and world-music record producer Yuval Ron imparts the ancient and deep 
 inter-cultural connection between these three traditions and the musical 
 influences they share. Featuring songs from Morocco, Yemen, Andalusia, 
 Bukhara and Israel. Yuval Ron is an Israeli composer and record producer of 
 international reputation. His ensemble was featured in the World Festival 
 of Sacred Music in LA 2002 and 2005 and International Peace Festival in 
 Korea.\n https://www.indybay.org/newsitems/2006/06/26/18282949.php
SUMMARY:FREE Lunchtime Concert: The Magic & Mystery of Middle East Sounds
LOCATION:Yerba Buena Gardens Esplanade\nMission & Third Streets, San Francisco
URL:https://www.indybay.org/newsitems/2006/06/26/18282949.php
DTSTART:20060629T193000Z
DTEND:20060629T203000Z
END:VEVENT
END:VCALENDAR
