BEGIN:VCALENDAR
VERSION:2.0
X-WR-CALNAME:www.indybay.org
PRODID:-//indybay/ical// v1.0//EN
BEGIN:VEVENT
UID:Indybay-18282114
SEQUENCE:18282909
CREATED:20060623T044200Z
DESCRIPTION:Sunday, July 16 at 12:00 pm \n\n\n\nHEALTH CARE FOR ALL CALIFORNIANS 
 \nPresented by Karen Armstead \n \n\nAn enormously important bill is 
 pending before the California Assembly, a bill for major healthcare reform. 
 It has already passed in the State Senate. It’s called “SB 840” and 
 it has broad support among professional organizations and Phil Angelides 
 supports it. But it needs grassroots support as well. SB 840 goes farther 
 than any other healthcare reform ever proposed for California because it 
 would abolish for-profit private insurance altogether and create 
 government-sponsored universal healthcare for all California residents for 
 life. Learn about the bill and how you can get involved. To demonstrate 
 grassroots support for major healthcare reform, people need to pressure 
 California Assembly legislators right now. \n\nHumanist Hall opens at 12:00 
 pm this Sunday for its Friends and Visitors to network and converse -- and 
 enjoy an organic potluck supper together! Our speaker presents her talk at 
 1:00 pm. \n\n https://www.indybay.org/newsitems/2006/06/22/18282114.php
SUMMARY:Health Care for All Californians
LOCATION:Humanist Hall \n390 27th Street \nmidtown Oakland, between Telegraph and 
 Broadway, below Pill Hill \nhttp://www.HumanistHall.net 
URL:https://www.indybay.org/newsitems/2006/06/22/18282114.php
DTSTART:20060716T200000Z
DTEND:20060716T210000Z
END:VEVENT
END:VCALENDAR
