BEGIN:VCALENDAR
VERSION:2.0
X-WR-CALNAME:www.indybay.org
PRODID:-//indybay/ical// v1.0//EN
BEGIN:VEVENT
UID:Indybay-18281699
SEQUENCE:18282713
CREATED:20060621T191300Z
DESCRIPTION:Correction\n\nThe prior calendar post stated that the protest and Police 
 Commission hearing (Justice4ASA) was tomorrow.\n\nIt is today Wed 5/21 at 5 
 PM !\n https://www.indybay.org/newsitems/2006/06/21/18281699.php
SUMMARY:Justice4ASA Sullivan Protest: Correction
LOCATION:SF City Hall
URL:https://www.indybay.org/newsitems/2006/06/21/18281699.php
DTSTART:20060621T071000Z
DTEND:20060621T091000Z
END:VEVENT
END:VCALENDAR
