BEGIN:VCALENDAR
VERSION:2.0
X-WR-CALNAME:www.indybay.org
PRODID:-//indybay/ical// v1.0//EN
BEGIN:VEVENT
UID:Indybay-18281526
SEQUENCE:18283598
CREATED:20060620T202300Z
DESCRIPTION:The West Coast segment of the Pastors for Peace Caravan to Cuba leaves from 
 Santa Cruz this weekend. \nThis is the 17th year our fellow community 
 members have challenged the travel ban to Cuba as well as the inhumane 
 embargo on Cuba by our government. If you'd like to send a message of 
 friendship and solidarity to the people of Cuba you can put your handprint 
 and a brief message on one of the vehicles being donated. \n Stop by the 
 Live Oak Grange*  this Saturday June 24 from 9:00 to noon and add your wish 
 for peace, friendship and solidarity. \n\nBring your kids.  Bring a friend. 
 We supply the paint. \n\n*1900 17th avenue between Capitola Road and the 
 Freeway \n\n https://www.indybay.org/newsitems/2006/06/20/18281526.php
SUMMARY:Send a message of friendship to Cuba
LOCATION:Live Oak Grange\n1900 17th ave. Santa Cruz
URL:https://www.indybay.org/newsitems/2006/06/20/18281526.php
DTSTART:20060624T160000Z
DTEND:20060624T190000Z
END:VEVENT
END:VCALENDAR
