BEGIN:VCALENDAR
VERSION:2.0
X-WR-CALNAME:www.indybay.org
PRODID:-//indybay/ical// v1.0//EN
BEGIN:VEVENT
UID:Indybay-18281346
SEQUENCE:18281987
CREATED:20060619T190600Z
DESCRIPTION:Congressional candidate Krissy Keefer and members of her campaign join the 
 14th Annual Dyke March with signs and literature and festive spirits.\n 
 https://www.indybay.org/newsitems/2006/06/19/18281346.php
SUMMARY:Krissy Keefer for Congress Campaign Joins Dyke March
LOCATION:Dolores Park, near 18th Street
URL:https://www.indybay.org/newsitems/2006/06/19/18281346.php
DTSTART:20060624T220000Z
DTEND:20060625T030000Z
END:VEVENT
END:VCALENDAR
