BEGIN:VCALENDAR
VERSION:2.0
X-WR-CALNAME:www.indybay.org
PRODID:-//indybay/ical// v1.0//EN
BEGIN:VEVENT
UID:Indybay-18281179
SEQUENCE:18281726
CREATED:20060618T053400Z
DESCRIPTION:Monday, June 19th, El Cerrito: City Council to Vote on Dispensary Ban\n\nEl 
 Cerrito currently has a moratorium on new dispensaries and is holding a 
 hearing on whether to adopt an ordinance permanently prohibiting 
 dispensaries.  The Council first considered an ordinance which would allow 
 for dispensaries in Del Norte, a major redevelopment site containing 
 multiple low income housing units. The city staff recommended the agenda 
 item and ordinance be called by title only, and there is question as to how 
 much notice was given to the public prior to the  previous hearings.  The 
 city staff is currently working on a report, and the City Manager claims 
 they have received NO input from patients! Please show your support and 
 express how important dispensaries are to patients!\n\n7:30p.m Community 
 Center, 7007 Moeser Lane.\n\nPlease download ASA talking points on 
 dispensary regulations, moratoriums & bans 
 (http://safeaccessnow.org/article.php?list=type&type=212)\n\nAlso, here is 
 the Agenda for the City Council meeting 
 (http://www.el-cerrito.org/archive/cc_agenda_060605.html).\n\nFor a good 
 article that gives more background to this hearing, read this Commentary 
 from the Berkeley Daily Planet.\n 
 https://www.indybay.org/newsitems/2006/06/17/18281179.php
SUMMARY:El Cerrito: City Council to Vote on Dispensary Ban
LOCATION:7:30p.m Community Center, 7007 Moeser Lane.
URL:https://www.indybay.org/newsitems/2006/06/17/18281179.php
DTSTART:20060620T023000Z
DTEND:20060620T043000Z
END:VEVENT
END:VCALENDAR
