BEGIN:VCALENDAR
VERSION:2.0
X-WR-CALNAME:www.indybay.org
PRODID:-//indybay/ical// v1.0//EN
BEGIN:VEVENT
UID:Indybay-18280329
SEQUENCE:18280579
CREATED:20060612T232500Z
DESCRIPTION:Visual Aid & The Hotel des Arts are delighted to announce a Bastille Day 
 party and fundraiser benefiting Visual Aid's programs, encouraging artists 
 with life-threatening illnesses to continue their creative work. \n\nAs DJ 
 Bustamante spins cool French beats, partygoers will enjoy an evening of 
 art, cocktails, wine, light hors d'oeuvres, silent art auction, viewings of 
 the original murals in the hotel rooms, and a free drawing for fabulous 
 prizes.\n\nThe gallery space will be filled with "Fireworks," a solo 
 exhibition of oil paintings by French born Visual Aid artist Martine 
 Jardel. In these works, Jardel explores abstraction through richly layered 
 color fields of vibrant hues.\n\n 
 https://www.indybay.org/newsitems/2006/06/12/18280329.php
SUMMARY:Visual Aid Celebrates Bastille Day at Hotel Des Arts!
LOCATION:Hotel Des Arts, 447 Bush Street (at Grant Ave), San Francisco. $10 donation 
 at the door, no advance ticket sales.
URL:https://www.indybay.org/newsitems/2006/06/12/18280329.php
DTSTART:20060715T003000Z
DTEND:20060715T043000Z
END:VEVENT
END:VCALENDAR
