BEGIN:VCALENDAR
VERSION:2.0
X-WR-CALNAME:www.indybay.org
PRODID:-//indybay/ical// v1.0//EN
BEGIN:VEVENT
UID:Indybay-17253
SEQUENCE:17253
CREATED:20040203T182400Z
DESCRIPTION:Frontlines and Left Party invite antiwar activists to meet on 
 Wednesday,\nMarch 19, at 5:00PM at the corner of Mission and 24th Streets 
 (Mission\nDistrict) to march from there to Powell and Market to unite with 
 other\ngroups and organizations.\n-------\nUNITED EMERGENCY ACTION 
 PLAN\n\nWEDNESDAY, MARCH 19:\nNo Business as Usual!\nNo War on 
 Iraq!\nNATIONAL CALL TO ACTION\n\nWednesday, March 19: Walkout! No Business 
 as Usual! \nConverge and demonstrate on the day of the Bush 
 ultimatum.\n\n*San Francisco, March 19 - Powell and Market\n\n*New York 
 City, March 19: Converge at 12 noon at Union \nSquare. March and converge 
 at Times Square at 5 p.m.\n\n*Washington DC, March 19: Converge at 12 noon 
 on the north \nside of the White House and stay there all day until a 
 \nmarch at 5 p.m.\n\n\n\n*and at central locations in cities and towns 
 around the \ncountry\n\nInitial Endorsers:\nA.N.S.W.E.R. Coalition\nThe 
 Greens/Green Party USA\nNot In Our Name Project\nNYC Forum of Concerned 
 Religious Leaders\nNew York City Labor Against the War\n\n\n\n 
 https://www.indybay.org/newsitems/2004/02/03/17253.php
SUMMARY:EMERGENCY DEMONSTRATION AGAINST THE WAR Feeder March to Powell
LOCATION:24th & Mission to march to Powell & Market
URL:https://www.indybay.org/newsitems/2004/02/03/17253.php
DTSTART:20030320T010000Z
DTEND:20030321T010000Z
END:VEVENT
END:VCALENDAR
