BEGIN:VCALENDAR
VERSION:2.0
X-WR-CALNAME:www.indybay.org
PRODID:-//indybay/ical// v1.0//EN
BEGIN:VEVENT
UID:Indybay-17103
SEQUENCE:17103
CREATED:20040203T182500Z
DESCRIPTION:Cosmik Casbah Presents March 22: “Beats NOT Bombs” The Bay Area 
 Anti-War Dance!\n\nDate: Saturday, March 22nd\nLocation: The newly 
 renovated Historic Sweets Ballroom (No. Cal's largest sprung 
 dancefloor!)\n1933 Broadway, Oakland (19thst B.A.R.T.)\nTime 
 8:00pm-2:00am\nEntrance: $10.00 - only!\nALL AGES WELCOME - ALCHOHOL 
 FREE\nInfo: vm 415.541.5033/live 415.488.1967\nWebsite: 
 http://thegroovegarden.com\nEmail. gatheringforgood@yahoo.com\n\nThe Cosmik 
 Casbah Presents:\n>>>>Beats NOT Bombs!
SUMMARY:Beats NOT Bombs
LOCATION:1933 Broadway (19th St B.A.R.T)
URL:https://www.indybay.org/newsitems/2004/02/03/17103.php
DTSTART:20030323T040000Z
DTEND:20030323T100000Z
END:VEVENT
END:VCALENDAR
