BEGIN:VCALENDAR
VERSION:2.0
X-WR-CALNAME:www.indybay.org
PRODID:-//indybay/ical// v1.0//EN
BEGIN:VEVENT
UID:Indybay-1703
SEQUENCE:1703
CREATED:20040203T182600Z
DESCRIPTION:\n\n\n\n\n Indo-American Cultural Center and \nEKTApresents\nShot in 
 India, Pakistan, Japan, and the \nU.S. in the aftermath of nuclear tests 
 conducted by India and Pakistan in \n1998. A dramatic and moving document 
 of peace activism in a time of war. \nCompleted in the aftermath of Sept 
 11th. (2001, 180mins) Subtitled in \nEnglish. \nDiscussion with filmmaker 
 Anand \nPatwardhan to follow film.\nSaturday, December 1st, 7:00 
 \nPM\nUniversity of Southern \nCaliforniaLucas Instructional Bldg, Room 
 1083450 Watt \nWay, Los Angeles\nTICKETS $10 (ONLINE)\nFor online tickets, 
 directions and more info, \nvisitwww.patwardhan.com\nPrint 
 \nPoster(requires Adobe Acrobat \nreader)\n \n\n 
 https://www.indybay.org/newsitems/2004/02/03/1703.php
SUMMARY:Screening of War and Peace
LOCATION:Univ. of Southern California\nLos Angeles
URL:https://www.indybay.org/newsitems/2004/02/03/1703.php
DTSTART:20011202T023000Z
DTEND:20011202T053000Z
END:VEVENT
END:VCALENDAR
