BEGIN:VCALENDAR
VERSION:2.0
X-WR-CALNAME:www.indybay.org
PRODID:-//indybay/ical// v1.0//EN
BEGIN:VEVENT
UID:Indybay-16993
SEQUENCE:16993
CREATED:20040203T182500Z
DESCRIPTION:Learn what your rights are when you encounter the police, how to copwatch 
 at protests, how to get effective videotape footage and what to do when 
 your rights have been violated.\n 
 https://www.indybay.org/newsitems/2004/02/03/16993.php
SUMMARY:KNOW YOUR RIGHTS TRAINING
LOCATION:Near Shattuck and Milvia
URL:https://www.indybay.org/newsitems/2004/02/03/16993.php
DTSTART:20030328T030000Z
DTEND:20030328T050000Z
END:VEVENT
END:VCALENDAR
