BEGIN:VCALENDAR
VERSION:2.0
X-WR-CALNAME:www.indybay.org
PRODID:-//indybay/ical// v1.0//EN
BEGIN:VEVENT
UID:Indybay-16823
SEQUENCE:16823
CREATED:20040203T182500Z
DESCRIPTION:3p Walnut Creek. Powerful, Non-Defensive Communication For 
 Peace-Makers.--.In A "Time Of War" With Sharon Ellison. At Mt. Diablo 
 Unitarian Universalist Church, 55 Eckley Lane, Walnut Creek. $15 advance 
 registration, $20 at the door. Sponsored by the Mt. Diablo Peace Center. 
 Info: 925-933-7850\n https://www.indybay.org/newsitems/2004/02/03/16823.php
SUMMARY:Powerful, Non-Defensive Communication For Peace-Makers
LOCATION:Mt. Diablo Unitarian Universalist Church, 55 Eckley Lane, Walnut Creek
URL:https://www.indybay.org/newsitems/2004/02/03/16823.php
DTSTART:20030316T230000Z
DTEND:20030317T020000Z
END:VEVENT
END:VCALENDAR
