BEGIN:VCALENDAR
VERSION:2.0
X-WR-CALNAME:www.indybay.org
PRODID:-//indybay/ical// v1.0//EN
BEGIN:VEVENT
UID:Indybay-1643
SEQUENCE:1643
CREATED:20040203T182500Z
DESCRIPTION:GENERAL MEETING: \n\nAll cosponsoring groups: Please send a 
 \nrepresentative/s: \nGeneral planning meeting for Action for Local/Global 
 Justice (SF-area response to WTO meetings being held 11/9-11/13 in Qatar)   
 \n\n********************************** \nPLEASE HELP with\nPOSTERING & 
 FLYERING: \n\nCan You Poster in your neighborhood, ask local stores and 
 groups to post it in widows, at community centers or on the street? Can you 
 leaflet with beautiful postcards? You can pick up posters and postcards at: 
 \nProject Underground, 1916 A Martin Luther King Jr. Way, one block north 
 of University around the right side of Nino’s Brazilian Pizzeria. People 
 are usually in 9-6pm m-f. Call to check (510) 705-8981 \nOr at \nJustAct in 
 San Francisco (333 Valencia #325), near 14th St. \nPeople are usually in 
 9-6pm Call (415) 431-4204 \nextensions 201 thru 211 
 \n\n************************************ \n\nDIRECT ACTION: \nWe are 
 Planning for direct action at the Friday Nov. 9 march to PGandE. At the 
 request of local environmental justice groups we are acting in solidarity 
 with we are not planning direct action for the Saturday Nov. 10 march on 
 Chevron. \n\nThe Friday direct action will be coordinated at the action 
 Spokescouncil: \nThursday, November 8, 6-9pm, Redstone Bldg., 1st \nfloor, 
 2940 16th @ Capp St (1 block from 16th St BART), SF \nParticipants are 
 asked to join or form an affinity group. An affinity group is a 
 self-reliant group of 5 to 20 people who have something in common, are 
 friends, neighbors, coworkers or just come together for a specific action. 
 \n\n\n https://www.indybay.org/newsitems/2004/02/03/1643.php
SUMMARY:Final  WTO Bay Area planning meeting
LOCATION:Communities for a Better Environment, 1611 Telegraph Ave. (at 16th St., 
 near 12th St. BART)   
URL:https://www.indybay.org/newsitems/2004/02/03/1643.php
DTSTART:20011108T023000Z
DTEND:20011108T053000Z
END:VEVENT
END:VCALENDAR
