BEGIN:VCALENDAR
VERSION:2.0
X-WR-CALNAME:www.indybay.org
PRODID:-//indybay/ical// v1.0//EN
BEGIN:VEVENT
UID:Indybay-16163
SEQUENCE:16163
CREATED:20040203T182300Z
DESCRIPTION:* Farmworkers and allies from the Coalition of Immokalee\nWorkers will be 
 hungerstriking at Taco Bell Corporate\nHeadquarters in Irvine, CA to stop 
 sweatshop conditions in\nFlorida's Tomato Fields. Join the Bay Area caravan 
 to the Feb 28\nNational Convergence at Taco Bell Headquarters. Get on 
 the\nBus to Taco Bell/Irvine! Leaves late eve Thurs Feb 27 and\nreturns Fri 
 Feb 28th eve. $10-30 round-trip/scholarships\navailable Call to (415) 
 648-8222 to reserve a spot.\nGlobalize Justice, not Corporate Power & 
 War\n\nSUPPORT FARMWORKERS' HUNGER STRIKE\nNO WAR * NO FTAA * NO WTO * NO 
 CAFTA\n\n** Kick off the Bay Area's mobilizations against the FTAA 
 (Free\nTrade Area of the America's) and the WTO (World 
 Trade\nOrganization). The WTO Summit will take place in Cancun,\nMexico 
 September and the FTAA Summit will take place In\nMiami, Florida in October 
 or November.\n\n* PROTEST CAFTA; The CAFTA Summit of Trade Ministers in 
 will\nbe meeting Cincinnati to negotiate the Central American Free\nTrade 
 Area (CAFTA). These "free" trade policies displace\nworkers and their 
 dignity, create more poverty and sweatshops\nand make bigger profits for 
 corporations like Taco Bell.\n\nCosponsored by (to date): Coalition of 
 Immokalee Workers,\nAction for Local Global Justice, Mexico Solidarity 
 Network,\nCISPES, Left Turn, Art and Revolution Collective, Food First, 
 ACT\nUP East Bay, CorpWatch, Amazon Watch\nMore info on Feb 25 action/Bay 
 Area caravan:\nbayareasocialforum@yahoo.com\nMore info on CIW/Hungerstrike: 
 www.ciw-online.org\n\nARTMAKING PARTY: Help Make Images for SF and 
 Irvine\nactions!\nSat Feb 22, 12noon-4pm\nArt and Revolution Space, 
 Redstone Building, 16th St at Capp,\nSan Francisco\n\nFinal Planning 
 Meeting: Sat Feb 22, 11am-noon\nArt and Revolution Space, Redstone 
 Building, 16th St at Capp,\nSan 
 Francisco\n**************************************************************\n\n\nGlobalicemos 
 la Justicia, no el Poder Corporativo & la Guerra\nAPOYE A LOS TRABAJADORES 
 DEL CAMPO\n\nHUELGA DE HAMBRE\nNO AL ALCA * NO A LA OMC\nNO AL ALCAC * NO A 
 LA GUERRA\n\nMARTES 25 DE FEBRERO\n\n4:30pm: La Bolsa Pacifica, 220 Bush 
 (con Sansome, cerca de\nMontgomery BART)\n5:00: Marcha\n5:30: Taco Bell, 
 Drum y Market (Embarcadero BART)\n. Los trajabajores del campo y los 
 compañeros de la Coalicion\nde Trabajadores Immokalee haran una huelga de 
 hambre en la\nSede Corporativa de Taco Bell en Irvine, CA para acabar con 
 las\ncondiciones pésimas de trabajo en los campos de tomate de\nFlorida. 
 Unéte a la caravana del Area de la Bahía a la\nConvergencia Nacional del 
 28 de Febrero en la Sede de Taco\nBell.\n. Comenzaremos las mobilizaciones 
 contra el ALCA (Area de\nLibre Comercio de las Americas) del Area de la 
 Bahía y la OMC\n(Organización Mundial del Comercio). La Cumbre de la OMC 
 se\nrealizará en Cancún, México, en Septiembre y la Cumbre del\nALCA 
 tomará lugar en Miami, Florida en Octubre o Noviembre.\n. PROTESTAREMOS 
 CONTRA ALCAC; La Cumbre de los\nMinistros de Comercio del ALCAC se reunirá 
 en Cincinnati para\nnegociar el Area de Libre Comercio de America 
 Central\n(ALCAC). Estas politicas de comercio "libre" desplazan a 
 los\ntrabajadores y su dignidad, crean más pobreza y maquiladoras\ny 
 obtienen mayores ganancias para las corporaciones como\nTaco Bell.\n\n. Las 
 guerras por el petroleo son la sangre y la vida de la\nglobalización 
 corporativa.\n\nCo-patrocinado por (la fecha): Acción para la 
 Justicia\nLocal/Global , La Red de Solidaridad con Mexico, CISPES, 
 Left\nTurn, el Colectivo Arte y Revolucion, Food First, ACT UP East\nBay, 
 CorpWatch\nMás información en CIW/Hungerstrike: 
 www.ciw-online.org\n\n\n\n 
 https://www.indybay.org/newsitems/2004/02/03/16163.php
SUMMARY:Bay Area caravan to the Feb 28 National Convergence at Irvine Taco Bell Headquar
LOCATION:Taco Bell/Irvine
URL:https://www.indybay.org/newsitems/2004/02/03/16163.php
DTSTART:20030228T020000Z
DTEND:20030301T020000Z
END:VEVENT
END:VCALENDAR
