BEGIN:VCALENDAR
VERSION:2.0
X-WR-CALNAME:www.indybay.org
PRODID:-//indybay/ical// v1.0//EN
BEGIN:VEVENT
UID:Indybay-15783
SEQUENCE:15783
CREATED:20040203T182500Z
DESCRIPTION:San Francisco Gray Panthers, Age and Youth in Action, working together to 
 make the world a place in which the young can look forward to growing 
 old.\n\nGeneral meetings are held the third Tuesday of each month.  They 
 are free, open to the public, and wheelchair accessible.\n\n\n\n\n 
 https://www.indybay.org/newsitems/2004/02/03/15783.php
SUMMARY:The Patriot Act: Forced Registration of Immigrants
LOCATION:First Unitarian Church, Geary and Franklin
URL:https://www.indybay.org/newsitems/2004/02/03/15783.php
DTSTART:20030218T080000Z
DTEND:20030218T100000Z
END:VEVENT
END:VCALENDAR
