BEGIN:VCALENDAR
VERSION:2.0
X-WR-CALNAME:www.indybay.org
PRODID:-//indybay/ical// v1.0//EN
BEGIN:VEVENT
UID:Indybay-15773
SEQUENCE:15773
CREATED:20040203T182400Z
DESCRIPTION:Thursday, February 20, 2003. 8PM $5\n\n\n“Hidden Wars of Desert 
 Storm”\nA 60 min. video-documentary on the Gulf War\n\n\n \n\n \n\nOn 
 August 2nd, 1990, Saddam Hussein launched his troops against Kuwait, 
 triggering the first major international crisis of the post-Soviet Union 
 era. But was this invasion a surprise in the first place? Were all 
 diplomatic means really utilized to try to resolve the issue peacefully? 
 Was there any threat from the part of Iraq against Saudi Arabia or against 
 any of the other Gulf states? What is true behind this mysterious "Gulf War 
 Syndrome" that goes on affecting hundreds of thousands of Gulf War 
 veterans?\n\nA two-year investigation, "Hidden Wars of Desert Storm" 
 answers these and several other questions that have never been confronted 
 by the main-stream media. The film is based on documents never seen before 
 on television and backed by interviews of such prominent personalities as 
 Desert Storm Commander, General Norman Schwarzkopf, former US Attorney 
 General Ramsey Clark, former UN Iraq Program Director Denis Halliday, 
 former UNSCOM team-leader Scott Ritter and many others. A large selection 
 of archival footage, moving images recently brought back from Iraq, an 
 original soundtrack scored by acclaimed composer Fritz Heede and the 
 narration by two-time British Academy Award-winner, actor John Hurt, all 
 contribute to making "Hidden Wars of Desert Storm" a fast-paced, 
 informative documentary while resolutely accessible to a general 
 audience.\n\n\n https://www.indybay.org/newsitems/2004/02/03/15773.php
SUMMARY:“Hidden Wars of Desert Storm”
LOCATION:992 Valencia @ 21 st\nSan Francisco\nwww.atasite.org\n824-3890
URL:https://www.indybay.org/newsitems/2004/02/03/15773.php
DTSTART:20030221T040000Z
DTEND:20030221T050000Z
END:VEVENT
END:VCALENDAR
