BEGIN:VCALENDAR
VERSION:2.0
X-WR-CALNAME:www.indybay.org
PRODID:-//indybay/ical// v1.0//EN
BEGIN:VEVENT
UID:Indybay-15713
SEQUENCE:15713
CREATED:20040203T182400Z
DESCRIPTION:Spend six Saturdays learning the basic tools of Forum Theater. This project 
 will culminate in an informal public performance in early April. No theater 
 experience required, just an open heart and mind! Forum Theater, created by 
 Brazilian director Augusto Boal, is an interactive form of performance that 
 explores community issues. It has been used throughout the world to address 
 issues ranging from domestic violence to workers' rights. $90-180 sliding 
 scale for the series, no one turned away for lack of funds.\n\n\n 
 https://www.indybay.org/newsitems/2004/02/03/15713.php
SUMMARY:Forum Theater Training
LOCATION:855 Treat Ave (@21st)
URL:https://www.indybay.org/newsitems/2004/02/03/15713.php
DTSTART:20030222T080000Z
DTEND:20030222T120000Z
END:VEVENT
END:VCALENDAR
