BEGIN:VCALENDAR
VERSION:2.0
X-WR-CALNAME:www.indybay.org
PRODID:-//indybay/ical// v1.0//EN
BEGIN:VEVENT
UID:Indybay-15533
SEQUENCE:15533
CREATED:20040203T182500Z
DESCRIPTION:\n https://www.indybay.org/newsitems/2004/02/03/15533.php
SUMMARY:sfimc meeting ***LOCATION & TIME TBA***
LOCATION:
URL:https://www.indybay.org/newsitems/2004/02/03/15533.php
DTSTART:20030209T080000Z
DTEND:20030209T100000Z
END:VEVENT
END:VCALENDAR
