BEGIN:VCALENDAR
VERSION:2.0
X-WR-CALNAME:www.indybay.org
PRODID:-//indybay/ical// v1.0//EN
BEGIN:VEVENT
UID:Indybay-15283
SEQUENCE:15283
CREATED:20040203T182500Z
DESCRIPTION:ANCIENT FUTURES:  TRADITIONAL VALUES\nFOR A MODERN WORLD\nPRESENTED BY 
 ZACHARY NORRIS \n\nThe International Society for Ecology and Culture (ISEC) 
 has worked in Ladakh since 1975, providing Ladakhi people with information 
 about the impact of conventional development in other parts of the world 
 while exploring more sustainable patterns of development in Ladakh itself.  
 Sustainable culture is based on the use of local resources and indigenous 
 knowledge.  Zachary will show ISEC’s eye-opening video, “Ancient 
 Futures: Learning from Ladakh,” drawn from the book of the same name by 
 Helena Norberg-Hodge, ISEC's Executive Director, describing traditional 
 Ladakhi culture and the psychological, social, and environmental changes 
 brought about by modernization.  It offers crucial insights into what our 
 contemporary world would do well to learn from traditional cultures.  
 Zachary will facilitate discussions before and after the video on the 
 topics it addresses.\n\n 
 https://www.indybay.org/newsitems/2004/02/03/15283.php
SUMMARY:ANCIENT FUTURES:  TRADITIONAL VALUES FOR A MODERN WORLD
LOCATION:The Fellowship of Humanity\n390  27th  Street\nDowntown Oakland\nBetween 
 Telegraph & Broadway\nBelow Pill Hill
URL:https://www.indybay.org/newsitems/2004/02/03/15283.php
DTSTART:20030219T033000Z
DTEND:20030219T053000Z
END:VEVENT
END:VCALENDAR
