BEGIN:VCALENDAR
VERSION:2.0
X-WR-CALNAME:www.indybay.org
PRODID:-//indybay/ical// v1.0//EN
BEGIN:VEVENT
UID:Indybay-1503
SEQUENCE:1503
CREATED:20040203T182500Z
DESCRIPTION:"This is the moment of truth for humankind. Critical choices must now be 
 made, in order to protect the continued existence of human society and the 
 Earth itself.\n\nThe traditional game of "winning the spoils" must come to 
 an end. If the competitive mode of history is continued, no one is going to 
 win – and everyone can (and, inevitably, will) lose.  Humankind must come 
 together (cooperatively, tolerantly, and as a whole) to solve the dreadful 
 mass of problems that are already really and concretely affecting (and, 
 otherwise, set to affect) human lives all over the world.  And, 
 fundamentally, there is only one effective “medicine”, one underlying 
 Law (or Principal), one practical moral basis upon which all of this can be 
 positively and successfully addressed:\n\n	Cooperation + Tolerance = 
 Peace\n\nNo one can win the separative wars of the tribes of human mind – 
 but, in a truly human cooperative global human community, all will win, 
 everywhere on Earth."\n\nAdi Da Samraj, from “The Peace Law”\n\nThis 
 event will feature William Stranger presenting Adi Da's recent letter 
 entitled "The Peace Law". Cost will be $15. Seating is limited. Please call 
 703.0330 to reserve a place.\n\nFind out more about this event and other 
 Adidam events in the San Francisco area, at our events page: 
 www.adidam.org/sf\n\nFor more about Adi Da’s message of “Cooperation + 
 Tolerance = Peace”, visit the Adidamj Society Peace Site at: 
 www.peacesite.org.\n\nCopywrite 2001 The Da Love-Ananda Samrajya Pty 
 Ltd.\nAs trusteed for the Da Love Ananda Samrajaya.\nAll rights reserved.  
 Perpetual copyright claimed.\n\n 
 https://www.indybay.org/newsitems/2004/02/03/1503.php
SUMMARY:The Peace Law, an essay by Adi Da Samraj
LOCATION:San Francisco Zen Center Conference Room\n310 Page Street, San Francisco
URL:https://www.indybay.org/newsitems/2004/02/03/1503.php
DTSTART:20011106T030000Z
DTEND:20011106T060000Z
END:VEVENT
END:VCALENDAR
