BEGIN:VCALENDAR
VERSION:2.0
X-WR-CALNAME:www.indybay.org
PRODID:-//indybay/ical// v1.0//EN
BEGIN:VEVENT
UID:Indybay-14943
SEQUENCE:14943
CREATED:20040203T182500Z
DESCRIPTION:Blue Vinyl\nJudith Helfand, Daniel B. Gold (U.S., 2001)\nJudith Helfand in 
 Person. Sardonic, personal expose of our plastic planet is “enormously 
 entertaining.”—Variety\n\n 
 https://www.indybay.org/newsitems/2004/02/03/14943.php
SUMMARY:Human Rights Watch Film Festival
LOCATION:Pacific Fim Archive: 2575 Bancroft Way @ Bowdicth
URL:https://www.indybay.org/newsitems/2004/02/03/14943.php
DTSTART:20030210T010000Z
DTEND:20030210T030000Z
END:VEVENT
END:VCALENDAR
