BEGIN:VCALENDAR
VERSION:2.0
X-WR-CALNAME:www.indybay.org
PRODID:-//indybay/ical// v1.0//EN
BEGIN:VEVENT
UID:Indybay-14463
SEQUENCE:14463
CREATED:20040203T182500Z
DESCRIPTION:TRUTH, RECONCILIATION AND REPARATIONS, a day-long \nconference presenting 
 evidence supporting the verdict from the 1982 International Tribunal on 
 Reparations for Black People held by the APSP in New York City. We are 
 organizing to bring a California contingent to the World Tribunal on 
 Reparations in November, 2003 in Philadelphia, Pennsylvania.\n\nThe 
 February 16th event will include expert evidence on:\n* The use of African 
 labor to build a ship a day for the Kaiser\nCorporation in the 1940's\n* 
 The port Chicago Massacre\n* African and indigenous/Mexicano unity\n* 
 "Gentrification" and the destruction of African neighborhoods \n* The 
 attacks on the Black Panther Party\n* The brutal California prison 
 industry\n* Police brutality in Oakland and Los Angeles.\n\nThe event will 
 feature as keynote speaker Omali Yeshitela, Chairman of the African 
 People's Socialist Party, an organization that has advanced the demand for 
 reparations to African people for the last twenty years and more. Yeshitela 
 just recently returned from South Africa, where he was the main speaker at 
 the Pan Africanist Congress of Azania (PAC) and where he put forward the 
 perspective that the wealth of Africa belongs to African people everywhere. 
 \n\nAlso participating will be Penny Hess, national chair of the African 
 People's Solidarity Committee Chair of the African People's  Solidarity 
 Committee, formed by the APSP to build a movement of white \npeople's 
 reparations to the African community. Hess is the author of \nOverturning 
 the Culture of Violence published by Burning Spear Uhuru  
 Publications(www.burningspearuhuru.com).\n\n\n 
 https://www.indybay.org/newsitems/2004/02/03/14463.php
SUMMARY:TRUTH, RECONCILIATION & REPARATIONS
LOCATION:SITE TBA
URL:https://www.indybay.org/newsitems/2004/02/03/14463.php
DTSTART:20030216T080000Z
DTEND:20030216T090000Z
END:VEVENT
END:VCALENDAR
