BEGIN:VCALENDAR
VERSION:2.0
X-WR-CALNAME:www.indybay.org
PRODID:-//indybay/ical// v1.0//EN
BEGIN:VEVENT
UID:Indybay-14383
SEQUENCE:14383
CREATED:20040203T182500Z
DESCRIPTION:Learn how to organize a union in your workplace and use collective 
 bargaining to gain better wages and benefits. If you work in a low wage job 
 with no benefits in retail, hospitality, or any other industry, this 
 program is for you! \n 
 https://www.indybay.org/newsitems/2004/02/03/14383.php
SUMMARY:Union Organizing 101
LOCATION:The Unitarian Center   \n1187 Franklin St.  (@ Geary)\nSan Francisco, CA
URL:https://www.indybay.org/newsitems/2004/02/03/14383.php
DTSTART:20030122T030000Z
DTEND:20030122T050000Z
END:VEVENT
END:VCALENDAR
