BEGIN:VCALENDAR
VERSION:2.0
X-WR-CALNAME:www.indybay.org
PRODID:-//indybay/ical// v1.0//EN
BEGIN:VEVENT
UID:Indybay-14263
SEQUENCE:14263
CREATED:20040203T182400Z
DESCRIPTION:from NION "www.nionbayarea.net ": \n"Protest the registrations, detentions 
 and round-ups of our Arab, Muslim, and South Asian brothers and 
 sisters!\n\nJanuary 6-10 (every day) from 11am-1pm\nSan Francisco INS 
 Office at 444 Washington Street \n\n•To call for a STOP to the 
 registrations, roundups & detentions\n•Raise awareness and inform 
 others\n•Monitor the INS activities\n\nShifts of people are needed to 
 pass out literature from 6am to 5pm. Press conference Friday, January 10 at 
 1pm."\n\nTranslators needed.\n\nPlease also see: 
 "http://www.indybay.org/calendar/event_display_detail.php?event_id=1421 
 "\n\nEDIT - Press conference has been moved to 1:30p after prayers.\n 
 https://www.indybay.org/newsitems/2004/02/03/14263.php
SUMMARY:Moniter INS, Protest Detentions
LOCATION:San Francisco INS Office at 444 Washington Street 
URL:https://www.indybay.org/newsitems/2004/02/03/14263.php
DTSTART:20030110T190000Z
DTEND:20030110T220000Z
END:VEVENT
END:VCALENDAR
