BEGIN:VCALENDAR
VERSION:2.0
X-WR-CALNAME:www.indybay.org
PRODID:-//indybay/ical// v1.0//EN
BEGIN:VEVENT
UID:Indybay-14033
SEQUENCE:14033
CREATED:20040203T182500Z
DESCRIPTION:The Wisdom of Fred Hampton: “You can kill a revolutionary, but you 
 can’t kill the Revolution!” An inspiring video presentation will be 
 shown.\nThis class will provide a brief overview about Fred Hampton who led 
 the largest chapter of the Black Panther Party in Chicago, IL. Fred was one 
 of the most powerful organizers in all of American history exemplified by 
 the fact that he influenced 20,000 potential comrades into the Black 
 Panther Party, which led to his assassination. This class will also show 
 the 1971 movie “The Murder of Fred Hampton”, which chronicles some of 
 Fred Hampton’s work and speeches as well as the COINTELPRO led set-up and 
 murder of this tremendous Freedom Fighter. Information will also be 
 provided about his wife Akua Njeri and son Fred Hampton Jr. who continue 
 the fight. After the movie, a collective discussion will follow.  \n\n 
 https://www.indybay.org/newsitems/2004/02/03/14033.php
SUMMARY:The Wisdom of Fred Hampton
LOCATION:The Humanist Hall at 390 27th Street in Oakland (between Telegraph and 
 Broadway)
URL:https://www.indybay.org/newsitems/2004/02/03/14033.php
DTSTART:20020130T030000Z
DTEND:20020130T050000Z
END:VEVENT
END:VCALENDAR
