BEGIN:VCALENDAR
VERSION:2.0
X-WR-CALNAME:www.indybay.org
PRODID:-//indybay/ical// v1.0//EN
BEGIN:VEVENT
UID:Indybay-13813
SEQUENCE:13813
CREATED:20040203T182400Z
DESCRIPTION:This is a benefit for San Francisco Liberation Radio (93.7 FM),  a 
 community-based micro-broadcasting (pirate) station located in the Castro 
 district. This station covers a diverse spectrum of topics and musical 
 genres. SFLR has been transmitting for over nine years, funded only by 
 listeners.Help support this station by attending a dance party!\n\nMusic 
 supplied by SFLR dj's Betty and Todd. Vegan refreshments 
 provided.\nGenderf*ck and drag especially encouraged!\n\nSo dig out your 
 platforms, fluff out that wig and get ready to dance! Dress as your 
 favorite diva!\nCOME OUT and be fabulous! \n\nOr just drop by to meet 
 everyone - and dance! \n\n8 PM until 11:30 PM\n1884 Market (at Laguna) 
 \n\nSuggested donation: $5  - $10 \n(but no one will be turned away for 
 lack of cash!)\n \nevery cent collected donated to SFLR \n\nListen to us at 
 93.7 FM\nhttp://www.liberationradio.net\n\n 
 https://www.indybay.org/newsitems/2004/02/03/13813.php
SUMMARY:An Informal Formal  - Dance party / Benefit for SF Liberation Radio - 93.7 FM
LOCATION:1884 Market @ Laguna
URL:https://www.indybay.org/newsitems/2004/02/03/13813.php
DTSTART:20021215T040000Z
DTEND:20021215T070000Z
END:VEVENT
END:VCALENDAR
