BEGIN:VCALENDAR
VERSION:2.0
X-WR-CALNAME:www.indybay.org
PRODID:-//indybay/ical// v1.0//EN
BEGIN:VEVENT
UID:Indybay-13423
SEQUENCE:13423
CREATED:20040203T182500Z
DESCRIPTION:There will be a Community Crafts Faire that the EcoVillage will be holding 
 on Sat Dec 7th, 11am-4pm with a requested 15+% of proceeds to be donated to 
 the East Bay Food Not Bombs. 
 \n\nhttp://www.ecovillage510.org/\nhttp://www.ecovillage510.org/leaningtowermenu.html\nhttp://www.ebfnb.org/\n\nfrom 
 http://www.ecovillage510.org/d200212.html#communitycraftfaire\n"Community 
 Arts & Craft Faire - Artwork, Baked Goods, Fudge, Greeting Cards, Jewelry, 
 Music, Plant Starts, and More… 15+% of proceeds to benefit East Bay Food 
 Not Bombs. Sat 7, 11am-4pm @ The Leaning Tower. Renee, 273-9016 or Dawn, 
 625-1209" \n https://www.indybay.org/newsitems/2004/02/03/13423.php
SUMMARY:Community Crafts Faire, Benefit for East Bay Food Not Bombs
LOCATION:Leaning Tower of Pizza\n498 Wesley @ Brooklyn\n(one block from 
 Lakeshore)\n1.510.444.6824
URL:https://www.indybay.org/newsitems/2004/02/03/13423.php
DTSTART:20021207T190000Z
DTEND:20021208T000000Z
END:VEVENT
END:VCALENDAR
