BEGIN:VCALENDAR
VERSION:2.0
X-WR-CALNAME:www.indybay.org
PRODID:-//indybay/ical// v1.0//EN
BEGIN:VEVENT
UID:Indybay-13153
SEQUENCE:13153
CREATED:20040203T182300Z
DESCRIPTION:\n\n"The Autonomous Collective works for permanent \nsolutions to social 
 injustice by establishing services \nand products based on autonomy from 
 capitalism. \nWe develop independent services such as Housing \nFood 
 Programs, Labor Collectives and other \nresources that are based on 
 collectivism rather \nthan capitalism. We are also based on the principle 
 \nof ecological sustainability and biodiversity. We also \nwork to 
 permanently change sexism, racism, \nmilitarism. We are Queer Positive and 
 against all \nforms of oppression. Part of our mission also is to \nengage 
 in Direct Action against those forces which \nserve injustice." \n\nGeneral 
 Meetings every Wednesday nights at 8:00pm at 2940 16th St (near Mission St) 
 at 8:00pm \n\n\n https://www.indybay.org/newsitems/2004/02/03/13153.php
SUMMARY:Anti-Authoritarian Organizing
LOCATION:2940 16th St (near Mission St) in San Francisco, Suite 216
URL:https://www.indybay.org/newsitems/2004/02/03/13153.php
DTSTART:20021121T040000Z
DTEND:20021121T060000Z
END:VEVENT
END:VCALENDAR
