BEGIN:VCALENDAR
VERSION:2.0
X-WR-CALNAME:www.indybay.org
PRODID:-//indybay/ical// v1.0//EN
BEGIN:VEVENT
UID:Indybay-13023
SEQUENCE:13023
CREATED:20040203T182400Z
DESCRIPTION:Please come and support the CELLspace during our third month of crisis. In 
 July the S.F. Police Dept. decided to enforce a law concerning Place of 
 Entertainment. We are forbidden from having events at CELLspace until we 
 sift through a mountain of city codes, permits etc. and make some important 
 safety and building improvements required by the city. Nearly half of our 
 funding has come from EVENTs and we are at risk of losing CELLspace if we 
 cannot raise nearly $4,000 a month. Fortunately, we have been gifted an 
 80,000 square foot parking lot for 13 weeks to build a Village and 
 celebrate outside in the sun with occasional benefit parties and a regular 
 Sunday market. Please join us this coming weekend and help manifest 
 abundance so that we can preserve this important community art space. Thank 
 You. \n\nMission Village Art, Farm and Flea Market\nA Community Gathering 
 of all Cultures and Ages\nEVERY Sunday Starting October 6th-December. 
 10am-5pm\nFlorida Street Between 18th and19th Streets\nThe Mission Village 
 Art, Farm and Flea Market is a community gathering offering an opportunity 
 to support local entrepreneurs, buy or barter local arts, handcrafts and 
 produce, eat tasty food, celebrate youth culture, connect with neighbors, 
 and educate ourselves in a conscious and sustainable neighborhood 
 environment. \n\n https://www.indybay.org/newsitems/2004/02/03/13023.php
SUMMARY:Mission Village Art, Farm, and Flea Market
LOCATION:Florida St., between 18th & 19th St.
URL:https://www.indybay.org/newsitems/2004/02/03/13023.php
DTSTART:20021117T180000Z
DTEND:20021118T000000Z
END:VEVENT
END:VCALENDAR
