BEGIN:VCALENDAR
VERSION:2.0
X-WR-CALNAME:www.indybay.org
PRODID:-//indybay/ical// v1.0//EN
BEGIN:VEVENT
UID:Indybay-12903
SEQUENCE:12903
CREATED:20040203T182400Z
DESCRIPTION:Land Struggles on the Atlantic Coast of Nicaragua.\nAn Evening of Learning, 
 Music, and Solidarity.\n\nCome support land and autonomy for the 
 afro-indigenous people of the Nicaragualn Atlantic Coast!\n \nSpeaker: 
  Dr. Maria Acosta  known and respected human rights lawyer who has fought 
 relentlessly for the rights of indigenous peoples in their struggle\n to 
 keep their land and culture alive in the ever-\n expanding threat of 
 globalization. She represents traditional community authorities and 
 indigenous people in constitutional actions in defense of communal 
 ancestral lands.  \n\nVideo Showing: Our Land, Our Future/  A short 
 documentary about the indigenous and ecology of the Atlantic Coast of 
 Nicaragua.\n\nMusic: Marimba Rhythms by German E. Mefia, son of the 
 celebrated Luis Enrique  Meijia Godoy.\n\n $5-$20 Sliding scale, no one 
 will be turned away for lack of funds.\n\nSnacks will be provided.\n \n 
 Questions?  Ast for Carolina at (415)647-8126\n 
 https://www.indybay.org/newsitems/2004/02/03/12903.php
SUMMARY:Land Struggles on the Atlantic Coast of Nicaragua
LOCATION:The Women's Building, 3543 18th jStreet, SF, 2nd Floor
URL:https://www.indybay.org/newsitems/2004/02/03/12903.php
DTSTART:20021116T033000Z
DTEND:20021116T053000Z
END:VEVENT
END:VCALENDAR
