BEGIN:VCALENDAR
VERSION:2.0
X-WR-CALNAME:www.indybay.org
PRODID:-//indybay/ical// v1.0//EN
BEGIN:VEVENT
UID:Indybay-12573
SEQUENCE:12573
CREATED:20040203T182500Z
DESCRIPTION:www.geocities.com/vigil4peace \n\nWAR IS NOT THE ANSWER!\n6:30 PM 
 VIGIL\n7:00 - 8:00 PM PEACE WALK (along Shattuck)\n\nWe walk along the 
 commercial district of Shattuck Ave, rain or (moon)shine!\nAll are welcome. 
 Bring signs or candles. Give peace a presence, and renew your sense of hope 
 for the future....\n\n\nWe believe that as people living in the United 
 States it is our responsibility to resist the injustices done by our 
 government, in our names \n\nNot in our name will you wage endless war 
 there can be no more deaths no more transfusions of blood for oil \n\nNot 
 in our name will you invade countries bomb civilians, kill more children 
 letting history take its course over the graves of the nameless \n\nNot in 
 our name will you erode the very freedoms you have claimed to fight for 
 \n\nNot by our hands will we supply weapons and funding for the 
 annihilation of families on foreign soil \n\nNot by our mouths will we let 
 fear silence us \n\nNot by our hearts will we allow whole peoples or 
 countries to be deemed evil \n\nNot by our will and Not in our name \n\nWe 
 pledge resistance \n\nWe pledge alliance with those who have come under 
 attack for voicing opposition to the war or for their religion or ethnicity 
 \n\nWe pledge to make common cause with the people of the world to bring 
 about justice,freedom and peace \n\nAnother world is possible \nand we 
 pledge to make it real.\n 
 https://www.indybay.org/newsitems/2004/02/03/12573.php
SUMMARY:Berkeley Peace Walk & Vigil, every Wednesday
LOCATION:Downtown Berkeley BART station, Shattuck @ Center St.
URL:https://www.indybay.org/newsitems/2004/02/03/12573.php
DTSTART:20021128T023000Z
DTEND:20021128T043000Z
END:VEVENT
END:VCALENDAR
