BEGIN:VCALENDAR
VERSION:2.0
X-WR-CALNAME:www.indybay.org
PRODID:-//indybay/ical// v1.0//EN
BEGIN:VEVENT
UID:Indybay-12543
SEQUENCE:12543
CREATED:20040203T182400Z
DESCRIPTION:I will not go.\n\nAn Israeli Refusenik Speaks:\n“Why I Refuse to Serve in 
 the Occupied Territories.”\n\nA Talk with Israeli Refusenik, Ron 
 Gerlitz.\n\nThursday, November 14.\n7:30 pm.\nWomen’s Building.\n3543 
 18th Street, Between Valencia and Guerrero.\nSan Francisco, CA.\n16th and 
 Mission BART.\n$5 Suggested Donation.\n\nRon Gerlitz served in the Israeli 
 Defense Forces for six years before making the decision to not serve in the 
 Occupied West Bank and Gaza.  He became a leader of Yesh Gvul (There is a 
 Limit!), the Israeli organization that represents conscientious objectors, 
 \nwww.yesh-gvul.org.  \n\n“I am writing these things wearing my army 
 uniform. Yes, I am in\nreserve duty. But I have learned that my ethics must 
 dictate the\nrange of my obedience. ... I told my officers that I do not 
 intend to participate in any naval operation against the Palestinian 
 population in Gaza Strip. The Occupation completely opposes every value of 
 mine, and complying with it conflicts with my understanding of democracy. 
 \n\n“If I am sent, I will not go.”  --Ron Gerlitz\n\nSponsored by 
 Jewish Voice for Peace.  Contact Liat Weingart with questions.  
 l.weingart@lse.ac.uk.\n\n 
 https://www.indybay.org/newsitems/2004/02/03/12543.php
SUMMARY:An Israeli Refusenik Speaks Out
LOCATION:Women's Building, 3543 18th Street, Between Valencia and Guerrero.
URL:https://www.indybay.org/newsitems/2004/02/03/12543.php
DTSTART:20021114T153000Z
DTEND:20021114T173000Z
END:VEVENT
END:VCALENDAR
