BEGIN:VCALENDAR
VERSION:2.0
X-WR-CALNAME:www.indybay.org
PRODID:-//indybay/ical// v1.0//EN
BEGIN:VEVENT
UID:Indybay-12163
SEQUENCE:12163
CREATED:20040203T182400Z
DESCRIPTION:Wed Oct. 30th VEGA LEE'S APOCALIPSTICK at The Cat Club SF 1190 Folsom, SF - 
 at the Bondage A-Go-Go Halloween Eve Ball & Costume Party\nShowtime 10:00 
 PM SHARP! Hearts will be a' pounding and the juice flowing freely at this 
 fun but terrifying fetish event ... the set will not last long so ARRIVE 
 BEFORE 10 or you will definitely miss our complete demolition of SAN FRAN 
 PSYCHO SEX PUNK - an historic, incredibly perverse and totally frightening 
 experience!\n\nVega Lee's APOCALIPSTICK is an extremely visual, female 
 empowering, theatrical fetish rock and roll band and blistering riot grrl 
 S&M show.  Singer/band leader/ dominatrix/rad poet/filmmaker/black arts 
 practitioner Vega Lee is at the center of a lot of media attention these 
 days. San Jose Metro recently featured Vega Lee in their cover story on 
 women in rock.  \n https://www.indybay.org/newsitems/2004/02/03/12163.php
SUMMARY:Apocalipstick at Halloween Eve Ball at The Cat Club SF, 10 PM on 10/30
LOCATION:1190 Folsom St\n
URL:https://www.indybay.org/newsitems/2004/02/03/12163.php
DTSTART:20021031T060000Z
DTEND:20021031T070000Z
END:VEVENT
END:VCALENDAR
