BEGIN:VCALENDAR
VERSION:2.0
X-WR-CALNAME:www.indybay.org
PRODID:-//indybay/ical// v1.0//EN
BEGIN:VEVENT
UID:Indybay-12083
SEQUENCE:12083
CREATED:20040203T182500Z
DESCRIPTION:Sunday October 20, 2:00-5:00 p.m.\nThe Israeli Palestinian Conflict: 
 Strategies for Dissent in a Time of War\n\nTalk by David Biale, Professor 
 of Jewish History at the University of\nCalifornia at Davis and Fellow of 
 the American Academy for Jewish Research,\nwill be followed by facilitated 
 small group discussions. Sponsored by Bay Area \nTikkun Community. The 
 Berkeley Peace Chapel, 2075 Eunice, Berkeley. $5-10\ndonation requested. No 
 one turned away for lack of funds.  For more information call 
 415/575-1200\n https://www.indybay.org/newsitems/2004/02/03/12083.php
SUMMARY:The Israeli Palestinian Conflict: Strategies for Dissent in a Time of War
LOCATION:The Berkeley Peace Chapel, 2075 Eunice, Berkeley
URL:https://www.indybay.org/newsitems/2004/02/03/12083.php
DTSTART:20021020T210000Z
DTEND:20021021T000000Z
END:VEVENT
END:VCALENDAR
