BEGIN:VCALENDAR
VERSION:2.0
X-WR-CALNAME:www.indybay.org
PRODID:-//indybay/ical// v1.0//EN
BEGIN:VEVENT
UID:Indybay-11503
SEQUENCE:11503
CREATED:20040203T182500Z
DESCRIPTION:Join with others opposed to war.\n 
 https://www.indybay.org/newsitems/2004/02/03/11503.php
SUMMARY:LMNOP Weekly AntiWar Walk at Lake Merritt
LOCATION:Starts & ends at the colonnade between Grand & Lakeshore Avenues at the 
 northeast end of Lake Merritt in Oakland.  For directions & public 
 transportation info go to http://lmno4p.org
URL:https://www.indybay.org/newsitems/2004/02/03/11503.php
DTSTART:20021020T220000Z
DTEND:20021021T000000Z
END:VEVENT
END:VCALENDAR
