BEGIN:VCALENDAR
VERSION:2.0
X-WR-CALNAME:www.indybay.org
PRODID:-//indybay/ical// v1.0//EN
BEGIN:VEVENT
UID:Indybay-1113
SEQUENCE:1113
CREATED:20040203T182500Z
DESCRIPTION:Street Festival for Free Radio Berkeley and other 8th and Dwight 
 operations.\n\nPerformers:  Carol Denney, Funky Nixons, Cruzin Coyotes and 
 more.\n https://www.indybay.org/newsitems/2004/02/03/1113.php
SUMMARY:DAY OF DEAD AIR
LOCATION:8th and Dwight, Berkeley
URL:https://www.indybay.org/newsitems/2004/02/03/1113.php
DTSTART:20011028T200000Z
DTEND:20011029T020000Z
END:VEVENT
END:VCALENDAR
