BEGIN:VCALENDAR
VERSION:2.0
X-WR-CALNAME:www.indybay.org
PRODID:-//indybay/ical// v1.0//EN
BEGIN:VEVENT
UID:Indybay-10813
SEQUENCE:10813
CREATED:20040203T182500Z
DESCRIPTION:Tuesday October 8, 2002\nBerkeley Community Theatre\n1930 Allston Way @ 
 Martin Luther King Jr. Way\n7:30 pm – 9:30 pm\nAdvance tickets - 
 $10\nTickets at door - $12\nStudents with valid ID - $2 off \nInfo / 
 Tickets: 510-655-1810\nProceeds benefit California Green Party \nEast Bay 
 ticket outlets: Cody's Books, Pegassus Books, Pendragon Books, Walden Pond 
 Books\nwww.cagreens.org\n\n 
 https://www.indybay.org/newsitems/2004/02/03/10813.php
SUMMARY:RALPH NADER RALLY FOR CA GREENS
LOCATION:Berkeley Community Theatre\n1930 Allston Way @ Martin Luther King Jr. Way\n
URL:https://www.indybay.org/newsitems/2004/02/03/10813.php
DTSTART:20021009T023000Z
DTEND:20021009T043000Z
END:VEVENT
END:VCALENDAR
