BEGIN:VCALENDAR
VERSION:2.0
X-WR-CALNAME:www.indybay.org
PRODID:-//indybay/ical// v1.0//EN
BEGIN:VEVENT
UID:Indybay-10803
SEQUENCE:10803
CREATED:20040203T182500Z
DESCRIPTION:The Green Party of Alameda County invites you to our 2002 Campaign Kickoff 
 and Volunteer Orientation.\n\nWhen: Sunday September 22, 2002 - 1:30 pm to 
 4:00 pm\n\nWhere: The community meeting room on the 3rd floor of the 
 Berkeley Public Library, 2090 Kittredge St. at the corner of Shattuck Ave - 
 two blocks south of the Berkeley BART Station. \nCome meet our candidates 
 and other local greens, enjoy refreshments, and get ready for action!\n\n\n 
 https://www.indybay.org/newsitems/2004/02/03/10803.php
SUMMARY:Green Party Campaign Kick-Off
LOCATION:Berkeley Public Library\n2090 Kittridge St, \ncorner of Shattuck Ave
URL:https://www.indybay.org/newsitems/2004/02/03/10803.php
DTSTART:20020922T203000Z
DTEND:20020922T223000Z
END:VEVENT
END:VCALENDAR
