BEGIN:VCALENDAR
VERSION:2.0
X-WR-CALNAME:www.indybay.org
PRODID:-//indybay/ical// v1.0//EN
BEGIN:VEVENT
UID:Indybay-10753
SEQUENCE:10753
CREATED:20040203T182400Z
DESCRIPTION:Day laborers and ally neighbors will be meeting on Saturday, September 21, 
 \n12:30-1:30, at the new site, 3358 Cesar Chavez St. (between Mission and 
 So. \nVan Ness) to strategize how to mobilize for the Planning Commission 
 hearing on October 3.  All are welcome to \nattend! \n\n\n\n 
 https://www.indybay.org/newsitems/2004/02/03/10753.php
SUMMARY:Day Laborers & Allies Gather to Mobilize for Planning Commission Meeting
LOCATION:3358 Cesar Chavez St.
URL:https://www.indybay.org/newsitems/2004/02/03/10753.php
DTSTART:20020921T193000Z
DTEND:20020921T203000Z
END:VEVENT
END:VCALENDAR
