BEGIN:VCALENDAR
VERSION:2.0
X-WR-CALNAME:www.indybay.org
PRODID:-//indybay/ical// v1.0//EN
BEGIN:VEVENT
UID:Indybay-10573
SEQUENCE:10573
CREATED:20040203T182400Z
DESCRIPTION:On Saturday, October 26, 2002 - the first anniversary of the signing of the 
 the so called Patriot Act - anti-war, civil rights, labor, student and 
 other forces are joining together to launch a massive international 
 mobilization in opposition to a new war aginst the people of Iraq. Mass 
 marches and rallies will be held in Washington DC and San Francisco in the 
 U.S, and in many other countries.  Volunteers and donations needed. Call. 
 Emergency Response on the day of a new U.S. war: 5 pm protest Powell & 
 Market St. (Powell BART Stop) San Francisco and 12noon following Saturday 
 same locale. This war can be stopped. But the essential element must be the 
 mobilization of a massive new anti-war movement in the streets. We call for 
 civilians and soldiers alike to exercise their political right to speak out 
 against illegal war. On O26, there will be protests around the world. ONLY 
 THE PEOPLE CAN STOP THE WAR! Join us on October 26!\n 
 https://www.indybay.org/newsitems/2004/02/03/10573.php
SUMMARY:Stop the War Against Iraq - National Marches on San Francisco & Washington DC
LOCATION:Justin Herman Plaza (Embarcadero BART) Stop the War Against Iraq
URL:https://www.indybay.org/newsitems/2004/02/03/10573.php
DTSTART:20021026T180000Z
DTEND:20021026T220000Z
END:VEVENT
END:VCALENDAR
