BEGIN:VCALENDAR
VERSION:2.0
X-WR-CALNAME:www.indybay.org
PRODID:-//indybay/ical// v1.0//EN
BEGIN:VEVENT
UID:Indybay-105663
SEQUENCE:18282309
CREATED:20060608T023300Z
DESCRIPTION:VOLUNTEER IN NEW ORLEANS THIS SUMMER    WORK IN SOLIDARITY WITH THE PEOPLE 
 IN THE GULF!     YOU ARE INVITED TO JOIN THE PEOPLE OF NEW ORLEANS TO MAKE 
 HELP MAKE THEIR CITY SAFE, LIVABLE AND JUST!     Orientation/Information 
 meeting for people who are going, or interested in going to volunteer in 
 New Orleans this summer.     Thursday, June 22nd, 6:30-8:30  @ Station 40, 
 3030B 16th St  (next to 16th/Mission BART in San Francisco)     Free Food 
 provided starting at 6pm !     The meeting will include:      *             
                             Question and Answer period      *               
                           Updates from organizations on the ground      *   
                                       Logistics      *                      
                    Opportunity to meet and network with others traveling to 
 New Orleans                                                                 
                                                               Bay to Gulf 
 Solidarity primarily works with Common Ground Relief and People's Hurricane 
 Relief Fund.  Please RSVP by calling 415-820-1662, or email 
 baytogulf@yahoo.com                                    Station 40 is not 
 wheelchair accessible, we apologize for the inconvenience.        This 
 summer thousands of students and many of us regular folk will be going to 
 New Orleans and other parts of the Gulf to join grassroots campaigns for 
 the Right of people displaced by the hurricanes to return to their homes. 
 We�ll be working on house gutting, construction/reconstruction and 
 political organizing to ensure the right of people to housing and levees 
 that will protect them from future storms. This summer is being called 
 Reconstruction Summer by People's Hurricane Relief Fund (PHRF), an 
 African-American grassroots organization on the ground in New Orleans. The 
 idea is that like Freedom Summer in 1964, folks who go to the Gulf as part 
 of Reconstruction Summer, will not only provide a needed hand. They will 
 also gain experiential knowledge that will inspire their commitment to the 
 struggle for justice for Hurricane Survivors, for racial and economic 
 justice in their own cities, and will ultimately build a stronger social 
 justice movement.  THIS SUMMER WILL BE HISTORIC!\n 
 https://www.indybay.org/newsitems/2006/06/07/105663.php
SUMMARY:SF: Volunteer in New Orleans this Summer Information Meeting
LOCATION:@ Station 40, 3030B 16th St  (next to 16th/Mission BART in San Francisco)
URL:https://www.indybay.org/newsitems/2006/06/07/105663.php
DTSTART:20060623T013000Z
DTEND:20060623T033000Z
END:VEVENT
END:VCALENDAR
