BEGIN:VCALENDAR
VERSION:2.0
X-WR-CALNAME:www.indybay.org
PRODID:-//indybay/ical// v1.0//EN
BEGIN:VEVENT
UID:Indybay-10553
SEQUENCE:10553
CREATED:20040203T182400Z
DESCRIPTION:The International Solidarity Movement invites you to hear Ghassan Andoni 
 speak about the struggle for non-violent resistence to the occupation of 
 Palestine.  Ghassan Andoni is the Director of the Palestinean Center for 
 the Rapprochement in Beit Sahour, Occupied alestine, and a leader in the 
 International Solidarity Movement.  He is a major figue  in the non-violent 
 resistence movement against the Israeli occupation, and will be appealing 
 for volunteers to come to Palestine for the ISM olive harvest campaign, 
 Oct. 15- Nov. 15, 2002.  This is a rare opportunity to hear someone speak 
 first hand of the incredible struggle for non-violent resistence in 
 Palestine.  There will be time for questions and discussion.  $5 - $15 
 suggested donation, no one turned away for lack of funds.\n 
 https://www.indybay.org/newsitems/2004/02/03/10553.php
SUMMARY:International Solidarity Movement leader Ghassan Andoni
LOCATION:Women's Building\n3514 18th Street
URL:https://www.indybay.org/newsitems/2004/02/03/10553.php
DTSTART:20020915T213000Z
DTEND:20020915T233000Z
END:VEVENT
END:VCALENDAR
