BEGIN:VCALENDAR
VERSION:2.0
X-WR-CALNAME:www.indybay.org
PRODID:-//indybay/ical// v1.0//EN
BEGIN:VEVENT
UID:Indybay-105403
SEQUENCE:105403
CREATED:20060607T160000Z
DESCRIPTION:Other Art, Other Culture, Other Communication\nat the Other Mission,    La 
 otra del otro lado\n\nAn event of Culture and Information in support of San 
 Salvador Atenco and\nThe Other Campaign\n\nwith\nMusic: Francisco Herrera 
 and Coro Obrero\nRadio Zapatista    LIVE   broadcast  on   KPFA 94.1\nLocal 
   Poets   and     Musicians\nArt/esanía\nInformation on The Other Campaign 
 and repression in Atenco,Mexico.\n\nJoin us in international support for 
 the people of San Salvador Atenco and\nThe Other 
 Campaign.\n\ncollaboration:     Caracol de la Mission, Colectiva Zapatista 
 Ramona, Chiapas Support Committee\n\nfor more information:\nwww. 
 RadioZapatista.org   CoZaRamona@yahoo.com        
 \nwww.CaracolMission.com\n\n\n 
 https://www.indybay.org/newsitems/2006/06/07/105403.php
SUMMARY:In support of the struggle in San Salvador Atenco, Mexico
LOCATION:New College of California\n777 Valencia St. \nSan Francisco
URL:https://www.indybay.org/newsitems/2006/06/07/105403.php
DTSTART:20060610T023000Z
DTEND:20060610T053000Z
END:VEVENT
END:VCALENDAR
