BEGIN:VCALENDAR
VERSION:2.0
X-WR-CALNAME:www.indybay.org
PRODID:-//indybay/ical// v1.0//EN
BEGIN:VEVENT
UID:Indybay-104433
SEQUENCE:18281674
CREATED:20060604T075700Z
DESCRIPTION:You are cordially invited to attend the Pride Week kick off celebration at 
 City Hall  Please join Mayor Gavin Newsom, the 36th annual Pride Grand 
 Marshals, and members of the LGBTQ community in raising the Rainbow Flag at 
 City Hall (Polk Street side) followed by a Pride Reception on the Mayor’s 
 Balcony (second floor).  What: 	Pride Week Kick Off Celebration & Rainbow 
 Flag Raising  When: 	Monday, June 19, 2006  Where: 	San Francisco City Hall 
  Time: 	5:40pm – 6:00pm – Rainbow Flag Raising (Polk Street steps of 
 City Hall)  6:00pm – 7:00pm – Pride Reception (Mayor’s Balcony, 
 second floor)  http://www.sfpride.org\n 
 https://www.indybay.org/newsitems/2006/06/04/104433.php
SUMMARY:San Francisco Pride Week Kickoff
LOCATION:5:40pm – 6:00pm – Rainbow Flag Raising (Polk Street steps of City Hall) 
  6:00pm – 7:00pm – Pride Reception (Mayor’s Balcony, second floor)
URL:https://www.indybay.org/newsitems/2006/06/04/104433.php
DTSTART:20060620T003000Z
DTEND:20060620T023000Z
END:VEVENT
END:VCALENDAR
