BEGIN:VCALENDAR
VERSION:2.0
X-WR-CALNAME:www.indybay.org
PRODID:-//indybay/ical// v1.0//EN
BEGIN:VEVENT
UID:Indybay-10393
SEQUENCE:10393
CREATED:20040203T182400Z
DESCRIPTION:Stop being treated like CRAP and become part of:  Solutionful Citizens 
 Rebuking Airport Pollution\n\nMeet Jim Starry\nFeatured guest on Caroline 
 Casey's Visionary Activism show, psychic engineer, thorn in the side of the 
 Denver airport developers, conscience of the FAA, and temptation to the 
 World Bank and all people who love to breathe!\n\nAsk any question...He'll 
 supply radical, environmentally sound solutions that we can enact!\nAnd 
 imagine the alternatives\n\nJoin with other SCRAPS, reweaving the fabric of 
 our earth.  Demand accountability from airport engineers and politicos 
 supporting benzene levels 300,000 times greater than safety 
 requirements....\n\n\n 
 https://www.indybay.org/newsitems/2004/02/03/10393.php
SUMMARY:CRAP Alert!  Citizens Rebuking Airport Pollution
LOCATION:Roxie Cinema\n16th @ Valencia
URL:https://www.indybay.org/newsitems/2004/02/03/10393.php
DTSTART:20020908T180000Z
DTEND:20020908T200000Z
END:VEVENT
END:VCALENDAR
