BEGIN:VCALENDAR
VERSION:2.0
X-WR-CALNAME:www.indybay.org
PRODID:-//indybay/ical// v1.0//EN
BEGIN:VEVENT
UID:Indybay-102313
SEQUENCE:102313
CREATED:20060518T220400Z
DESCRIPTION:Thursday, May 18  7:30  Proceeds benefit the Haiti Information Project 
 (HIP) http://www.teledyol.net  Haiti: The Untold Story  Filmmaker Kevin 
 Pina challenges the contemporary view of Haiti, revealing the hidden role 
 of the 'international community' in Haitian politics. This provocative and 
 lively film takes the viewer into parts of Haiti where few Western 
 journalists dare to tread, and includes shocking footage of unreported 
 human rights abuses, some which have been astonishingly conducted by UN 
 forces. Pina’s film stands out because it connects the tragic events in 
 Haiti with what he assesses as foreign intervention designed to deter 
 democracy. Learn the side of the Haiti coverage not seen in regular media. 
 For more information call: 510-295-3174. Sponsored by: Flashpoints on 
 Pacifica (http://www.flashpoints.net) & S.F. Bayview 
 (http://www.sfbayview.com). Running time: 53 mins. Showtime: 7:30 only. 
 FILMMAKER IN PERSON! \n 
 https://www.indybay.org/newsitems/2006/05/18/102313.php
SUMMARY:Screening of Haiti: The Untold Story with Kevin Pina
LOCATION:3117 16th Street (at Valencia Street) •  San Francisco, CA 94103  Tel: 
 (415) 863-1087
URL:https://www.indybay.org/newsitems/2006/05/18/102313.php
DTSTART:20060519T023000Z
DTEND:20060519T043000Z
END:VEVENT
END:VCALENDAR
