BEGIN:VCALENDAR
VERSION:2.0
X-WR-CALNAME:www.indybay.org
PRODID:-//indybay/ical// v1.0//EN
BEGIN:VEVENT
UID:Indybay-1023
SEQUENCE:1023
CREATED:20040203T182400Z
DESCRIPTION:SF Bay Area Global Action Aginst the WTO \nGlobalize Justice Not War 
 \nFriday November 9, 12 Noon \nJustin Herman Plazza, San Francisoco foot of 
 Market St. (Embarcadero BART)\n\nTwo years after its defeat in Seattle the 
 World Trade Organization (WTO) will meet again, November 9-12, in Doha, 
 Qatar, an isolated Persian Gulf dictatorship, in the hopes of shutting out 
 massive global opposition. In response, people across the globe are 
 localizing their resistance to once again stop the WTO\'s destructive 
 \"free trade\" agenda. \n\nAfter the tragedies of September 11, as the 
 world mourns, as the US government prepares for war, as racist attacks take 
 place, as our freedoms come under fire, and as the government manipulates 
 this tragedy to push free trade --including dangerous new WTO agreements-- 
 at the November meeting, it is now more important than ever to stand up for 
 global justice as the foundation for peace. Even if the WTO delays its 
 meeting in Qatar, we will go ahead with our actions. \n\nOur work for 
 global justice is inseparable from our local community efforts against the 
 day-to-day impact of the global system at the root of our social, economic 
 and ecological problems: environmental racism, skyrocketing incarceration, 
 attacks on immigrant rights, housing displacement, low wages, lousy working 
 conditions and cuts in social services. \n\nAnother world is possible and a 
 global & local movement is rising up to make it happen. Join us! \n\nAction 
 for Local/Global Justice Cosponsored by (to date): West County Toxics 
 Coalition, Communities for a Better Environment, Ella Baker Center for 
 Human Rights, Freedom Rising Affinity Group, Art and Revolution, Project 
 Underground, Solidarity, Left Turn, Bridges, Revel Alliance Affinity Group, 
 Cultural Links, Bay Area Police Watch, Greenaction, , East Bay Peace 
 Action, JustAct, Books Not Bars \n\n\n\n\n\n\n\n 
 https://www.indybay.org/newsitems/2004/02/03/1023.php
SUMMARY:SF Bay Area Global Action Aginst the WTO
LOCATION:Justin Herman Plaza Noon
URL:https://www.indybay.org/newsitems/2004/02/03/1023.php
DTSTART:20011023T190000Z
DTEND:20011023T200000Z
END:VEVENT
END:VCALENDAR
