BEGIN:VCALENDAR
VERSION:2.0
X-WR-CALNAME:www.indybay.org
PRODID:-//indybay/ical// v1.0//EN
BEGIN:VEVENT
UID:Indybay-102113
SEQUENCE:102113
CREATED:20060517T155800Z
DESCRIPTION:The next BACORR (Bay Area Coalition for Our Reproductive Rights) planning 
 meetings will be held:  Wednesday, May 17, 6:30-8:30pm in San Francisco  
 Wednesday, May 31, 6:30-8:30pm in Oakland  Meetings are held alternately in 
 SF & Oakland:  New Valencia Hall, 1908 Mission St. (at 15th St.), San 
 Francisco.  Design Action, 369 15th St. (between Franklin/Webster), Oakland 
  Help strategize on future actions and plan for our first annual 
 Celebration of Reproductive Rights in January ‘07.  Your talents are 
 needed!  If you want more info, please call 415-864-1278  or email 
 bacorrinfo@riseup.net.  Everyone is welcome -- come fight back with BACORR! 
  http://www.bacorr.org     http://lists.riseup.net/www/info/bacorr\n 
 https://www.indybay.org/newsitems/2006/05/17/102113.php
SUMMARY:BACORR (Bay Area Coalition for Our Reproductive Rights) planning meeting
LOCATION:New Valencia Hall, 1908 Mission St. (at 15th St.)
URL:https://www.indybay.org/newsitems/2006/05/17/102113.php
DTSTART:20060518T013000Z
DTEND:20060518T033000Z
END:VEVENT
END:VCALENDAR
